BEGIN:VCALENDAR
VERSION:2.0
PRODID:-//Enka Mannenkoor Ede - ECPv6.15.18//NONSGML v1.0//EN
CALSCALE:GREGORIAN
METHOD:PUBLISH
X-WR-CALNAME:Enka Mannenkoor Ede
X-ORIGINAL-URL:https://enkamannenkoorede.nl
X-WR-CALDESC:Evenementen voor Enka Mannenkoor Ede
REFRESH-INTERVAL;VALUE=DURATION:PT1H
X-Robots-Tag:noindex
X-PUBLISHED-TTL:PT1H
BEGIN:VTIMEZONE
TZID:Europe/Amsterdam
BEGIN:DAYLIGHT
TZOFFSETFROM:+0100
TZOFFSETTO:+0200
TZNAME:CEST
DTSTART:20210328T010000
END:DAYLIGHT
BEGIN:STANDARD
TZOFFSETFROM:+0200
TZOFFSETTO:+0100
TZNAME:CET
DTSTART:20211031T010000
END:STANDARD
BEGIN:DAYLIGHT
TZOFFSETFROM:+0100
TZOFFSETTO:+0200
TZNAME:CEST
DTSTART:20220327T010000
END:DAYLIGHT
BEGIN:STANDARD
TZOFFSETFROM:+0200
TZOFFSETTO:+0100
TZNAME:CET
DTSTART:20221030T010000
END:STANDARD
BEGIN:DAYLIGHT
TZOFFSETFROM:+0100
TZOFFSETTO:+0200
TZNAME:CEST
DTSTART:20230326T010000
END:DAYLIGHT
BEGIN:STANDARD
TZOFFSETFROM:+0200
TZOFFSETTO:+0100
TZNAME:CET
DTSTART:20231029T010000
END:STANDARD
END:VTIMEZONE
BEGIN:VEVENT
DTSTART;VALUE=DATE:20221217
DTEND;VALUE=DATE:20221218
DTSTAMP:20260422T101310
CREATED:20221216T230957Z
LAST-MODIFIED:20221025T151824Z
UID:688-1671235200-1671321599@enkamannenkoorede.nl
SUMMARY:Koren op weg naar de kerst
DESCRIPTION:
URL:https://enkamannenkoorede.nl/concertagenda/koren-op-weg-naar-de-kerst/
LOCATION:Oude kerk Ede\, Grotestraat 58\, Ede\, Gelderland\, 6711 AN\, Netherlands
ATTACH;FMTTYPE=image/jpeg:https://enkamannenkoorede.nl/wp-content/uploads/Event_KorenOpWegNaarDeKerst2021.jpg
END:VEVENT
BEGIN:VEVENT
DTSTART;TZID=Europe/Amsterdam:20221217T113000
DTEND;TZID=Europe/Amsterdam:20221217T133000
DTSTAMP:20260422T101310
CREATED:20221116T190442Z
LAST-MODIFIED:20221116T190938Z
UID:1795-1671276600-1671283800@enkamannenkoorede.nl
SUMMARY:EFZO Korenfestival
DESCRIPTION:
URL:https://enkamannenkoorede.nl/concertagenda/efzo-korenfestival-2/
LOCATION:Oude kerk Ede\, Grotestraat 58\, Ede\, Gelderland\, 6711 AN\, Netherlands
END:VEVENT
END:VCALENDAR