BEGIN:VCALENDAR
VERSION:2.0
PRODID:-//Enka Mannenkoor Ede - ECPv6.15.18//NONSGML v1.0//EN
CALSCALE:GREGORIAN
METHOD:PUBLISH
X-WR-CALNAME:Enka Mannenkoor Ede
X-ORIGINAL-URL:https://enkamannenkoorede.nl
X-WR-CALDESC:Evenementen voor Enka Mannenkoor Ede
REFRESH-INTERVAL;VALUE=DURATION:PT1H
X-Robots-Tag:noindex
X-PUBLISHED-TTL:PT1H
BEGIN:VTIMEZONE
TZID:Europe/Amsterdam
BEGIN:DAYLIGHT
TZOFFSETFROM:+0100
TZOFFSETTO:+0200
TZNAME:CEST
DTSTART:20240331T010000
END:DAYLIGHT
BEGIN:STANDARD
TZOFFSETFROM:+0200
TZOFFSETTO:+0100
TZNAME:CET
DTSTART:20241027T010000
END:STANDARD
BEGIN:DAYLIGHT
TZOFFSETFROM:+0100
TZOFFSETTO:+0200
TZNAME:CEST
DTSTART:20250330T010000
END:DAYLIGHT
BEGIN:STANDARD
TZOFFSETFROM:+0200
TZOFFSETTO:+0100
TZNAME:CET
DTSTART:20251026T010000
END:STANDARD
BEGIN:DAYLIGHT
TZOFFSETFROM:+0100
TZOFFSETTO:+0200
TZNAME:CEST
DTSTART:20260329T010000
END:DAYLIGHT
BEGIN:STANDARD
TZOFFSETFROM:+0200
TZOFFSETTO:+0100
TZNAME:CET
DTSTART:20261025T010000
END:STANDARD
END:VTIMEZONE
BEGIN:VEVENT
DTSTART;TZID=Europe/Amsterdam:20251019T150000
DTEND;TZID=Europe/Amsterdam:20251019T180000
DTSTAMP:20260422T131913
CREATED:20250220T002554Z
LAST-MODIFIED:20250915T142843Z
UID:3650-1760886000-1760896800@enkamannenkoorede.nl
SUMMARY:Najaarsconcert 2025
DESCRIPTION:Klik op de flyer om kaarten te bestellen . . . .
URL:https://enkamannenkoorede.nl/concertagenda/najaarsconcert-2025/
LOCATION:Akousticum Ede\, Nieuwe Kazernelaan 2–D42\, Ede\, 6711 JC\, Netherlands
END:VEVENT
END:VCALENDAR