BEGIN:VCALENDAR
VERSION:2.0
PRODID:-//Enka Mannenkoor Ede - ECPv6.15.18//NONSGML v1.0//EN
CALSCALE:GREGORIAN
METHOD:PUBLISH
X-ORIGINAL-URL:https://enkamannenkoorede.nl
X-WR-CALDESC:Evenementen voor Enka Mannenkoor Ede
REFRESH-INTERVAL;VALUE=DURATION:PT1H
X-Robots-Tag:noindex
X-PUBLISHED-TTL:PT1H
BEGIN:VTIMEZONE
TZID:Europe/Amsterdam
BEGIN:DAYLIGHT
TZOFFSETFROM:+0100
TZOFFSETTO:+0200
TZNAME:CEST
DTSTART:20250330T010000
END:DAYLIGHT
BEGIN:STANDARD
TZOFFSETFROM:+0200
TZOFFSETTO:+0100
TZNAME:CET
DTSTART:20251026T010000
END:STANDARD
BEGIN:DAYLIGHT
TZOFFSETFROM:+0100
TZOFFSETTO:+0200
TZNAME:CEST
DTSTART:20260329T010000
END:DAYLIGHT
BEGIN:STANDARD
TZOFFSETFROM:+0200
TZOFFSETTO:+0100
TZNAME:CET
DTSTART:20261025T010000
END:STANDARD
BEGIN:DAYLIGHT
TZOFFSETFROM:+0100
TZOFFSETTO:+0200
TZNAME:CEST
DTSTART:20270328T010000
END:DAYLIGHT
BEGIN:STANDARD
TZOFFSETFROM:+0200
TZOFFSETTO:+0100
TZNAME:CET
DTSTART:20271031T010000
END:STANDARD
END:VTIMEZONE
BEGIN:VEVENT
DTSTART;TZID=Europe/Amsterdam:20260411T100000
DTEND;TZID=Europe/Amsterdam:20260411T130000
DTSTAMP:20260422T031346
CREATED:20260331T132602Z
LAST-MODIFIED:20260401T000400Z
UID:4132-1775901600-1775912400@enkamannenkoorede.nl
SUMMARY:Open repetitie  in de Open Hof
DESCRIPTION:Zaterdag ochtend 11 april\nOpen repetitie in de Open Hof vanaf 10:00 uur\nvoor nieuwe- en project zangers voor groot concert “Best of the Proms”in Cultura op 4 oktober.\nRepertoire:\n  Amazing Grace\n  Auld Lane Syne\n  Danny Boy\n  Highland Cathedral\n  Homeward Bound\n  Jerusalem\n  Land of Hope and Glory\n  Loch Lomond\n  Mary Poppins\n  The Mermaid\n  The Mikado\n  You raise me up
URL:https://enkamannenkoorede.nl/concertagenda/open-repetitie-in-de-open-hof/
LOCATION:Open Hof te Ede\, Hoflaan 2\, 6715 AJ Ede\, Ede\, Hoflaan 2\, 6715 AJ\, Netherlands
ATTACH;FMTTYPE=image/jpeg:https://enkamannenkoorede.nl/wp-content/uploads/repetitie.jpg
END:VEVENT
END:VCALENDAR