BEGIN:VCALENDAR
VERSION:2.0
PRODID:-//Enka Mannenkoor Ede - ECPv6.15.18//NONSGML v1.0//EN
CALSCALE:GREGORIAN
METHOD:PUBLISH
X-ORIGINAL-URL:https://enkamannenkoorede.nl
X-WR-CALDESC:Evenementen voor Enka Mannenkoor Ede
REFRESH-INTERVAL;VALUE=DURATION:PT1H
X-Robots-Tag:noindex
X-PUBLISHED-TTL:PT1H
BEGIN:VTIMEZONE
TZID:Europe/Amsterdam
BEGIN:DAYLIGHT
TZOFFSETFROM:+0100
TZOFFSETTO:+0200
TZNAME:CEST
DTSTART:20220327T010000
END:DAYLIGHT
BEGIN:STANDARD
TZOFFSETFROM:+0200
TZOFFSETTO:+0100
TZNAME:CET
DTSTART:20221030T010000
END:STANDARD
BEGIN:DAYLIGHT
TZOFFSETFROM:+0100
TZOFFSETTO:+0200
TZNAME:CEST
DTSTART:20230326T010000
END:DAYLIGHT
BEGIN:STANDARD
TZOFFSETFROM:+0200
TZOFFSETTO:+0100
TZNAME:CET
DTSTART:20231029T010000
END:STANDARD
BEGIN:DAYLIGHT
TZOFFSETFROM:+0100
TZOFFSETTO:+0200
TZNAME:CEST
DTSTART:20240331T010000
END:DAYLIGHT
BEGIN:STANDARD
TZOFFSETFROM:+0200
TZOFFSETTO:+0100
TZNAME:CET
DTSTART:20241027T010000
END:STANDARD
END:VTIMEZONE
BEGIN:VEVENT
DTSTART;TZID=Europe/Amsterdam:20230427T153000
DTEND;TZID=Europe/Amsterdam:20230427T170000
DTSTAMP:20260422T013516
CREATED:20230204T163624Z
LAST-MODIFIED:20230216T132818Z
UID:1904-1682609400-1682614800@enkamannenkoorede.nl
SUMMARY:Oranjeconcert
DESCRIPTION:
URL:https://enkamannenkoorede.nl/concertagenda/oranjeconcert-in-oude-kerk-ede/
LOCATION:Oude kerk Ede\, Grotestraat 58\, Ede\, Gelderland\, 6711 AN\, Netherlands
ATTACH;FMTTYPE=image/jpeg:https://enkamannenkoorede.nl/wp-content/uploads/tulips-3251607_1920-696x399-2.jpg
END:VEVENT
END:VCALENDAR