BEGIN:VCALENDAR
VERSION:2.0
PRODID:-//Enka Mannenkoor Ede - ECPv6.15.18//NONSGML v1.0//EN
CALSCALE:GREGORIAN
METHOD:PUBLISH
X-WR-CALNAME:Enka Mannenkoor Ede
X-ORIGINAL-URL:https://enkamannenkoorede.nl
X-WR-CALDESC:Evenementen voor Enka Mannenkoor Ede
REFRESH-INTERVAL;VALUE=DURATION:PT1H
X-Robots-Tag:noindex
X-PUBLISHED-TTL:PT1H
BEGIN:VTIMEZONE
TZID:Europe/Amsterdam
BEGIN:DAYLIGHT
TZOFFSETFROM:+0100
TZOFFSETTO:+0200
TZNAME:CEST
DTSTART:20230326T010000
END:DAYLIGHT
BEGIN:STANDARD
TZOFFSETFROM:+0200
TZOFFSETTO:+0100
TZNAME:CET
DTSTART:20231029T010000
END:STANDARD
BEGIN:DAYLIGHT
TZOFFSETFROM:+0100
TZOFFSETTO:+0200
TZNAME:CEST
DTSTART:20240331T010000
END:DAYLIGHT
BEGIN:STANDARD
TZOFFSETFROM:+0200
TZOFFSETTO:+0100
TZNAME:CET
DTSTART:20241027T010000
END:STANDARD
BEGIN:DAYLIGHT
TZOFFSETFROM:+0100
TZOFFSETTO:+0200
TZNAME:CEST
DTSTART:20250330T010000
END:DAYLIGHT
BEGIN:STANDARD
TZOFFSETFROM:+0200
TZOFFSETTO:+0100
TZNAME:CET
DTSTART:20251026T010000
END:STANDARD
END:VTIMEZONE
BEGIN:VEVENT
DTSTART;TZID=Europe/Amsterdam:20240107T150000
DTEND;TZID=Europe/Amsterdam:20240107T163000
DTSTAMP:20260422T060241
CREATED:20231130T012804Z
LAST-MODIFIED:20240125T182907Z
UID:2536-1704639600-1704645000@enkamannenkoorede.nl
SUMMARY:Nieuwjaarsconcert 'Wiener Melange'
DESCRIPTION:Fotopagina
URL:https://enkamannenkoorede.nl/concertagenda/nieuwjaarsconcert-wiener-melange/
LOCATION:Cultura Ede\, Molenstraat 45\, Ede\, Gelderland\, 6711 AW\, Nederland
ATTACH;FMTTYPE=image/jpeg:https://enkamannenkoorede.nl/wp-content/uploads/Poster-Nieuwjaarsconcert-2024-kliktekst-1-scaled.jpg
ORGANIZER;CN="Enka Mannenkoor Ede":MAILTO:secretaris@enkamannenkoorede.nl
END:VEVENT
END:VCALENDAR