BEGIN:VCALENDAR
VERSION:2.0
PRODID:-//Enka Mannenkoor Ede - ECPv6.15.18//NONSGML v1.0//EN
CALSCALE:GREGORIAN
METHOD:PUBLISH
X-WR-CALNAME:Enka Mannenkoor Ede
X-ORIGINAL-URL:https://enkamannenkoorede.nl
X-WR-CALDESC:Evenementen voor Enka Mannenkoor Ede
REFRESH-INTERVAL;VALUE=DURATION:PT1H
X-Robots-Tag:noindex
X-PUBLISHED-TTL:PT1H
BEGIN:VTIMEZONE
TZID:Europe/Amsterdam
BEGIN:DAYLIGHT
TZOFFSETFROM:+0100
TZOFFSETTO:+0200
TZNAME:CEST
DTSTART:20250330T010000
END:DAYLIGHT
BEGIN:STANDARD
TZOFFSETFROM:+0200
TZOFFSETTO:+0100
TZNAME:CET
DTSTART:20251026T010000
END:STANDARD
BEGIN:DAYLIGHT
TZOFFSETFROM:+0100
TZOFFSETTO:+0200
TZNAME:CEST
DTSTART:20260329T010000
END:DAYLIGHT
BEGIN:STANDARD
TZOFFSETFROM:+0200
TZOFFSETTO:+0100
TZNAME:CET
DTSTART:20261025T010000
END:STANDARD
BEGIN:DAYLIGHT
TZOFFSETFROM:+0100
TZOFFSETTO:+0200
TZNAME:CEST
DTSTART:20270328T010000
END:DAYLIGHT
BEGIN:STANDARD
TZOFFSETFROM:+0200
TZOFFSETTO:+0100
TZNAME:CET
DTSTART:20271031T010000
END:STANDARD
END:VTIMEZONE
BEGIN:VEVENT
DTSTART;VALUE=DATE:20260101
DTEND;VALUE=DATE:20260102
DTSTAMP:20260422T060237
CREATED:20251221T010308Z
LAST-MODIFIED:20251222T015042Z
UID:3914-1767225600-1767311999@enkamannenkoorede.nl
SUMMARY:Wij wensen u het allerbeste voor 2026
DESCRIPTION:De concert agenda voor 2026 wordt binnenkort gepubliceerd.
URL:https://enkamannenkoorede.nl/concertagenda/beste-muzikale-wensen-voor-2026/
LOCATION:Hoflaan 2
ATTACH;FMTTYPE=image/jpeg:https://enkamannenkoorede.nl/wp-content/uploads/20251019-zoom.jpg
END:VEVENT
END:VCALENDAR